BEGIN:VCALENDAR
VERSION:2.0
PRODID:-//Syrový a Syrová, architekti - ECPv6.15.20//NONSGML v1.0//EN
CALSCALE:GREGORIAN
METHOD:PUBLISH
X-WR-CALNAME:Syrový a Syrová, architekti
X-ORIGINAL-URL:https://blog.sy-sy.cz
X-WR-CALDESC:Akce na Syrový a Syrová, architekti
REFRESH-INTERVAL;VALUE=DURATION:PT1H
X-Robots-Tag:noindex
X-PUBLISHED-TTL:PT1H
BEGIN:VTIMEZONE
TZID:Europe/Prague
BEGIN:DAYLIGHT
TZOFFSETFROM:+0100
TZOFFSETTO:+0200
TZNAME:CEST
DTSTART:20140330T010000
END:DAYLIGHT
BEGIN:STANDARD
TZOFFSETFROM:+0200
TZOFFSETTO:+0100
TZNAME:CET
DTSTART:20141026T010000
END:STANDARD
BEGIN:DAYLIGHT
TZOFFSETFROM:+0100
TZOFFSETTO:+0200
TZNAME:CEST
DTSTART:20150329T010000
END:DAYLIGHT
BEGIN:STANDARD
TZOFFSETFROM:+0200
TZOFFSETTO:+0100
TZNAME:CET
DTSTART:20151025T010000
END:STANDARD
BEGIN:DAYLIGHT
TZOFFSETFROM:+0100
TZOFFSETTO:+0200
TZNAME:CEST
DTSTART:20160327T010000
END:DAYLIGHT
BEGIN:STANDARD
TZOFFSETFROM:+0200
TZOFFSETTO:+0100
TZNAME:CET
DTSTART:20161030T010000
END:STANDARD
BEGIN:DAYLIGHT
TZOFFSETFROM:+0100
TZOFFSETTO:+0200
TZNAME:CEST
DTSTART:20170326T010000
END:DAYLIGHT
BEGIN:STANDARD
TZOFFSETFROM:+0200
TZOFFSETTO:+0100
TZNAME:CET
DTSTART:20171029T010000
END:STANDARD
BEGIN:DAYLIGHT
TZOFFSETFROM:+0100
TZOFFSETTO:+0200
TZNAME:CEST
DTSTART:20180325T010000
END:DAYLIGHT
BEGIN:STANDARD
TZOFFSETFROM:+0200
TZOFFSETTO:+0100
TZNAME:CET
DTSTART:20181028T010000
END:STANDARD
BEGIN:DAYLIGHT
TZOFFSETFROM:+0100
TZOFFSETTO:+0200
TZNAME:CEST
DTSTART:20190331T010000
END:DAYLIGHT
BEGIN:STANDARD
TZOFFSETFROM:+0200
TZOFFSETTO:+0100
TZNAME:CET
DTSTART:20191027T010000
END:STANDARD
END:VTIMEZONE
BEGIN:VTIMEZONE
TZID:Europe/Paris
BEGIN:DAYLIGHT
TZOFFSETFROM:+0100
TZOFFSETTO:+0200
TZNAME:CEST
DTSTART:20170326T010000
END:DAYLIGHT
BEGIN:STANDARD
TZOFFSETFROM:+0200
TZOFFSETTO:+0100
TZNAME:CET
DTSTART:20171029T010000
END:STANDARD
BEGIN:DAYLIGHT
TZOFFSETFROM:+0100
TZOFFSETTO:+0200
TZNAME:CEST
DTSTART:20180325T010000
END:DAYLIGHT
BEGIN:STANDARD
TZOFFSETFROM:+0200
TZOFFSETTO:+0100
TZNAME:CET
DTSTART:20181028T010000
END:STANDARD
BEGIN:DAYLIGHT
TZOFFSETFROM:+0100
TZOFFSETTO:+0200
TZNAME:CEST
DTSTART:20190331T010000
END:DAYLIGHT
BEGIN:STANDARD
TZOFFSETFROM:+0200
TZOFFSETTO:+0100
TZNAME:CET
DTSTART:20191027T010000
END:STANDARD
END:VTIMEZONE
BEGIN:VTIMEZONE
TZID:Europe/Helsinki
BEGIN:DAYLIGHT
TZOFFSETFROM:+0200
TZOFFSETTO:+0300
TZNAME:EEST
DTSTART:20160327T010000
END:DAYLIGHT
BEGIN:STANDARD
TZOFFSETFROM:+0300
TZOFFSETTO:+0200
TZNAME:EET
DTSTART:20161030T010000
END:STANDARD
BEGIN:DAYLIGHT
TZOFFSETFROM:+0200
TZOFFSETTO:+0300
TZNAME:EEST
DTSTART:20170326T010000
END:DAYLIGHT
BEGIN:STANDARD
TZOFFSETFROM:+0300
TZOFFSETTO:+0200
TZNAME:EET
DTSTART:20171029T010000
END:STANDARD
BEGIN:DAYLIGHT
TZOFFSETFROM:+0200
TZOFFSETTO:+0300
TZNAME:EEST
DTSTART:20180325T010000
END:DAYLIGHT
BEGIN:STANDARD
TZOFFSETFROM:+0300
TZOFFSETTO:+0200
TZNAME:EET
DTSTART:20181028T010000
END:STANDARD
END:VTIMEZONE
BEGIN:VEVENT
DTSTART;VALUE=DATE:20181114
DTEND;VALUE=DATE:20181115
DTSTAMP:20260423T004811
CREATED:20181107T065843Z
LAST-MODIFIED:20181107T072448Z
UID:2243-1542153600-1542239999@blog.sy-sy.cz
SUMMARY:GIS Day 2018
DESCRIPTION:Každoroční celosvětová akce. \nDen GIS je součástí týdne geografického uvědomění „Geography Awareness Week“\, jedné z iniciativ společnosti National Geographic Society. Tato aktivita vznikla v roce 1987 na podporu geografické gramotnosti na školách\, v organizacích a v lidské komunitě obecně. \nLetos nás opět najdete na Českém kulturním dědictví v GIS na půdě NPÚ.
URL:https://blog.sy-sy.cz/index.php/event/gis-day-2018/
CATEGORIES:GIS,GIS day,PaGIS
ATTACH;FMTTYPE=image/jpeg:https://blog.sy-sy.cz/wp-content/uploads/2018/11/GISDay2018-e1541574150270.jpg
END:VEVENT
BEGIN:VEVENT
DTSTART;TZID=Europe/Paris:20180905T120000
DTEND;TZID=Europe/Paris:20180907T120000
DTSTAMP:20260423T004811
CREATED:20180901T211015Z
LAST-MODIFIED:20180901T211039Z
UID:2179-1536148800-1536321600@blog.sy-sy.cz
SUMMARY:Setkání IISPP 2018
DESCRIPTION:Každoroční setkání editorů paGIS\, správců MIS a dalších příznivců IISPP\, letos již sedmé. Uskuteční se v Horšovském Týně 5.-7.září . Program bude jako v předchozích letech rozdělen na tři části:\n5.9.2018 – PaGIS (a geoportál památkové péče)\n6.9.2018 – Památkový katalog\, IISPP (a portál IISPP)\n7.9.2018 – MIS a Codebook\nProgram\, praktické informace a prezentace se objeví na níže uvedených odkazech. \n\nProgram\nPraktické informace\nPrezentace\n\nPřihlásit se můžete zde
URL:https://blog.sy-sy.cz/index.php/event/setkani-iispp-2018/
LOCATION:Zámecké kino Horšovský Týn\, náměstí Republiky 1\, Horšovský Týn\, 34601\, Česká republika
CATEGORIES:GIS,IS,PaGIS
ATTACH;FMTTYPE=image/jpeg:https://blog.sy-sy.cz/wp-content/uploads/2018/09/L1390907u1-e1535839751434.jpg
END:VEVENT
BEGIN:VEVENT
DTSTART;VALUE=DATE:20171115
DTEND;VALUE=DATE:20171116
DTSTAMP:20260423T004811
CREATED:20171107T145952Z
LAST-MODIFIED:20171107T145952Z
UID:1882-1510704000-1510790399@blog.sy-sy.cz
SUMMARY:GIS Day 2017
DESCRIPTION:Každoroční celosvětová akce. \nDen GIS je součástí týdne geografického uvědomění „Geography Awareness Week“\, jedné z iniciativ společnosti National Geographic Society. Tato aktivita vznikla v roce 1987 na podporu geografické gramotnosti na školách\, v organizacích a v lidské komunitě obecně. \nLetos nás opět najdete Českém kulturním dědictví v GIS na půdě NPÚ.
URL:https://blog.sy-sy.cz/index.php/event/gis-day-2017/
CATEGORIES:GIS,GIS day,PaGIS
ATTACH;FMTTYPE=image/png:https://blog.sy-sy.cz/wp-content/uploads/2014/11/GISDay_logo-1.png
END:VEVENT
BEGIN:VEVENT
DTSTART;TZID=Europe/Prague:20160211T100000
DTEND;TZID=Europe/Prague:20160211T150000
DTSTAMP:20260423T004811
CREATED:20160202T080823Z
LAST-MODIFIED:20160202T080823Z
UID:667-1455184800-1455202800@blog.sy-sy.cz
SUMMARY:Setkání editorů PaGIS
DESCRIPTION:Výroční svatovalentýnské setkání editorů PaGIS. \nUděje se v Herringově paláci na nám. Svobody ve Brně. \nProgram se bude točit\, jak ostatně jinak\, kolem nového Geoportálu památkové péče a jeho vazeb na rovněž zbrusu nový Památkový katalog i nekončícímu úkolu digitalizace KP.
URL:https://blog.sy-sy.cz/index.php/event/setkani-editoru-pagis-2/
LOCATION:Herringův palác\, Náměstí Svobody 8\, Brno\, 60154\, Česká republika
CATEGORIES:GIS,IS,PaGIS
END:VEVENT
BEGIN:VEVENT
DTSTART;TZID=Europe/Prague:20150211T100000
DTEND;TZID=Europe/Prague:20150211T150000
DTSTAMP:20260423T004811
CREATED:20150106T223433Z
LAST-MODIFIED:20150106T223433Z
UID:404-1423648800-1423666800@blog.sy-sy.cz
SUMMARY:Setkání editorů PaGIS
DESCRIPTION:Výroční svatovalentýnské setkání editorů PaGIS. \nUděje se v Herringově paláci na nám. Svobody ve Brně. \nProgram setkání:\n\npraktická informace ke sdílení dokumentů na Googlu\nzměny v uspořádání složek a práv na FTP\nrealizace Památkového katalogu a souvisejících úprav PaGIS\nnovinky v MIS (prozatím testovacím)\núkol digitalizace KP – prirotity 2015 (bodová identifikace KP a revize rozsahů KP)\nspecializované mapy v+v a nepovinné jevy UAP s ohledem na realizaci Katalogu\nk připravovanému červnovému společnému workshopu editorů PaGIS a správců MIS\nco pro nás bude znamenat přechod na ArcGIS 10.3
URL:https://blog.sy-sy.cz/index.php/event/setkani-editoru-pagis/
LOCATION:Herringův palác\, Náměstí Svobody 8\, Brno\, 60154\, Česká republika
CATEGORIES:GIS,PaGIS
END:VEVENT
END:VCALENDAR