BEGIN:VCALENDAR
VERSION:2.0
PRODID:-//Syrový a Syrová, architekti - ECPv6.15.20//NONSGML v1.0//EN
CALSCALE:GREGORIAN
METHOD:PUBLISH
X-WR-CALNAME:Syrový a Syrová, architekti
X-ORIGINAL-URL:https://blog.sy-sy.cz
X-WR-CALDESC:Akce na Syrový a Syrová, architekti
REFRESH-INTERVAL;VALUE=DURATION:PT1H
X-Robots-Tag:noindex
X-PUBLISHED-TTL:PT1H
BEGIN:VTIMEZONE
TZID:Europe/Prague
BEGIN:DAYLIGHT
TZOFFSETFROM:+0100
TZOFFSETTO:+0200
TZNAME:CEST
DTSTART:20180325T010000
END:DAYLIGHT
BEGIN:STANDARD
TZOFFSETFROM:+0200
TZOFFSETTO:+0100
TZNAME:CET
DTSTART:20181028T010000
END:STANDARD
BEGIN:DAYLIGHT
TZOFFSETFROM:+0100
TZOFFSETTO:+0200
TZNAME:CEST
DTSTART:20190331T010000
END:DAYLIGHT
BEGIN:STANDARD
TZOFFSETFROM:+0200
TZOFFSETTO:+0100
TZNAME:CET
DTSTART:20191027T010000
END:STANDARD
BEGIN:DAYLIGHT
TZOFFSETFROM:+0100
TZOFFSETTO:+0200
TZNAME:CEST
DTSTART:20200329T010000
END:DAYLIGHT
BEGIN:STANDARD
TZOFFSETFROM:+0200
TZOFFSETTO:+0100
TZNAME:CET
DTSTART:20201025T010000
END:STANDARD
BEGIN:DAYLIGHT
TZOFFSETFROM:+0100
TZOFFSETTO:+0200
TZNAME:CEST
DTSTART:20210328T010000
END:DAYLIGHT
BEGIN:STANDARD
TZOFFSETFROM:+0200
TZOFFSETTO:+0100
TZNAME:CET
DTSTART:20211031T010000
END:STANDARD
BEGIN:DAYLIGHT
TZOFFSETFROM:+0100
TZOFFSETTO:+0200
TZNAME:CEST
DTSTART:20220327T010000
END:DAYLIGHT
BEGIN:STANDARD
TZOFFSETFROM:+0200
TZOFFSETTO:+0100
TZNAME:CET
DTSTART:20221030T010000
END:STANDARD
END:VTIMEZONE
BEGIN:VTIMEZONE
TZID:Europe/Paris
BEGIN:DAYLIGHT
TZOFFSETFROM:+0100
TZOFFSETTO:+0200
TZNAME:CEST
DTSTART:20170326T010000
END:DAYLIGHT
BEGIN:STANDARD
TZOFFSETFROM:+0200
TZOFFSETTO:+0100
TZNAME:CET
DTSTART:20171029T010000
END:STANDARD
BEGIN:DAYLIGHT
TZOFFSETFROM:+0100
TZOFFSETTO:+0200
TZNAME:CEST
DTSTART:20180325T010000
END:DAYLIGHT
BEGIN:STANDARD
TZOFFSETFROM:+0200
TZOFFSETTO:+0100
TZNAME:CET
DTSTART:20181028T010000
END:STANDARD
BEGIN:DAYLIGHT
TZOFFSETFROM:+0100
TZOFFSETTO:+0200
TZNAME:CEST
DTSTART:20190331T010000
END:DAYLIGHT
BEGIN:STANDARD
TZOFFSETFROM:+0200
TZOFFSETTO:+0100
TZNAME:CET
DTSTART:20191027T010000
END:STANDARD
END:VTIMEZONE
BEGIN:VEVENT
DTSTART;TZID=Europe/Prague:20211001T180000
DTEND;TZID=Europe/Prague:20211003T120000
DTSTAMP:20260422T003042
CREATED:20211222T155434Z
LAST-MODIFIED:20211222T155505Z
UID:2802-1633111200-1633262400@blog.sy-sy.cz
SUMMARY:30. sněm SOVAMM
DESCRIPTION:30. sněm SOVAMM se uskuteční ve dnech 1.–3\,10. 2020 v Ústí nad Orlicí. Podrobnosti najdete na stránkách / bloku SOVAMM.
URL:https://blog.sy-sy.cz/index.php/event/30-snem-sovamm/
LOCATION:Hernychova vila\, 17. listopadu 72\, Ústí nad Orlicí\, 56201\, Česká republika
CATEGORIES:vernakulární architektura
ATTACH;FMTTYPE=image/jpeg:https://blog.sy-sy.cz/wp-content/uploads/2021/12/20211002_SyZ_dig_DSCN5183-scaled-e1640188402229.jpg
END:VEVENT
BEGIN:VEVENT
DTSTART;TZID=Europe/Prague:20210719T120000
DTEND;TZID=Europe/Prague:20210719T190000
DTSTAMP:20260422T003042
CREATED:20210718T083619Z
LAST-MODIFIED:20211222T161554Z
UID:2766-1626696000-1626721200@blog.sy-sy.cz
SUMMARY:Lidová architektura v jižních Čechách: Křest knihy
DESCRIPTION:V pondělí 19. července 2021 bude ve Smrčkově domě v Soběslavi pokřtěna kniha Lidová architektura v jižních Čechách. \nKnihu\, na jejímž vzniku jsme se podíleli\, vydává jako svou druhou publikaci Společnost pro obnovu vesnice na malého města\, z. s.. \n\nVíce o knize\n\nAkci pořádá Krajský úřad Jihočeského kraje\, Blatské muzeum v Soběslavi (pobočka Husitského muzea v Táboře) a Společnost pro obnovu vesnice a malého města\, z. s.. \nJCLA_Krest_20210719_red\n\nPozvánka ke stažení
URL:https://blog.sy-sy.cz/index.php/event/lidova-architektura-v-jiznich-cechach-krest-knihy/
LOCATION:Smrčkův dům\, náměstí Republiky 107\, Soběslav\, 39201\, Česká republika
CATEGORIES:vernakulární architektura
ATTACH;FMTTYPE=image/jpeg:https://blog.sy-sy.cz/wp-content/uploads/2021/12/JV026-scaled-e1640189694596.jpg
END:VEVENT
BEGIN:VEVENT
DTSTART;TZID=Europe/Prague:20201009T170000
DTEND;TZID=Europe/Prague:20201011T140000
DTSTAMP:20260422T003042
CREATED:20200123T204514Z
LAST-MODIFIED:20200427T202729Z
UID:2542-1602262800-1602424800@blog.sy-sy.cz
SUMMARY:29. sněm SOVAMM
DESCRIPTION:29. sněm SOVAMM se uskuteční ve dnech 9.–11\,10. 2020 na Kokořínsku. Podrobnosti najdete na stránkách / bloku SOVAMM.
URL:https://blog.sy-sy.cz/index.php/event/29-snem-sovamm/
LOCATION:Penzion U Rychtářky\, Loubí 1\, Holany\, 47002\, Česká republika
CATEGORIES:vernakulární architektura
ATTACH;FMTTYPE=image/jpeg:https://blog.sy-sy.cz/wp-content/uploads/2020/01/023-03-e1579797396447.jpg
END:VEVENT
BEGIN:VEVENT
DTSTART;VALUE=DATE:20190531
DTEND;VALUE=DATE:20190603
DTSTAMP:20260422T003042
CREATED:20190210T184611Z
LAST-MODIFIED:20190227T213124Z
UID:2336-1559260800-1559519999@blog.sy-sy.cz
SUMMARY:28. sněm SOVAMM
DESCRIPTION:28. sněm SOVAMM se uskuteční ve dnech 31.5.-2.6.2019 na Vyškovsku. Místo konání sněmu bude ještě upřesněno.Podrobnosti najdete na stránkách / bloku SOVAMM. \nSněm bude navazovat na konferenci Venkovské stavitelství v oblastech osídlených národnostními menšinami.
URL:https://blog.sy-sy.cz/index.php/event/28-snem-sovamm/
LOCATION:Lipka – Rychta\, Krásensko 76\, Krásensko\, 683 04\, Česká republika
CATEGORIES:hliněná architektura a konstrukce,vernakulární architektura
ATTACH;FMTTYPE=image/jpeg:https://blog.sy-sy.cz/wp-content/uploads/2019/02/19820701_SyZ_dia_024-18A-e1549824265871.jpg
END:VEVENT
BEGIN:VEVENT
DTSTART;TZID=Europe/Paris:20180601T190000
DTEND;TZID=Europe/Paris:20180603T190000
DTSTAMP:20260422T003042
CREATED:20180529T055535Z
LAST-MODIFIED:20180529T094417Z
UID:2114-1527879600-1528052400@blog.sy-sy.cz
SUMMARY:27.sněm SOVAMM
DESCRIPTION:27. sněm SOVAMM se uskuteční v Hůrkách u Nových Hradů ve dnech 1.-3.6.2018. Podrobnosti najdete na stránkách / bloku SOVAMM. \nZlatým hřebem programu letošní odborné exkurze měl být dům čp. 33 v Kunějově\, který jsme měli příležitost dokumentovat na konci 80. let (viz. příspěvek na blogu SOVAMM). Strop jeho obytné místnosti\, o němž jsme přesvědčeni\, že patřil ještě polodymné jizbě\, se bohužel\, jak se ukázalo při možnosti prověřování jeho zařazení do programu exkurze\, nedochoval. Na sněmu mu můžeme věnovat jen minutu ticha. \n\nIlustrační foto: Bílá\, návesní kaple\, za ní dům usedlosti čp. 17; Z. Syrová 25.2.1989 (SOVPIS)
URL:https://blog.sy-sy.cz/index.php/event/27-snem-sovamm/
LOCATION:Penzion U kostela\, Hůrky 3\, Nová Bystřice\, 378 33\, Česká republika
CATEGORIES:SHP,vernakulární architektura
ATTACH;FMTTYPE=image/jpeg:https://blog.sy-sy.cz/wp-content/uploads/2018/05/231-28ucb.jpg
END:VEVENT
END:VCALENDAR