BEGIN:VCALENDAR
VERSION:2.0
PRODID:-//Syrový a Syrová, architekti - ECPv6.15.20//NONSGML v1.0//EN
CALSCALE:GREGORIAN
METHOD:PUBLISH
X-WR-CALNAME:Syrový a Syrová, architekti
X-ORIGINAL-URL:https://blog.sy-sy.cz
X-WR-CALDESC:Akce na Syrový a Syrová, architekti
REFRESH-INTERVAL;VALUE=DURATION:PT1H
X-Robots-Tag:noindex
X-PUBLISHED-TTL:PT1H
BEGIN:VTIMEZONE
TZID:Europe/Paris
BEGIN:DAYLIGHT
TZOFFSETFROM:+0100
TZOFFSETTO:+0200
TZNAME:CEST
DTSTART:20170326T010000
END:DAYLIGHT
BEGIN:STANDARD
TZOFFSETFROM:+0200
TZOFFSETTO:+0100
TZNAME:CET
DTSTART:20171029T010000
END:STANDARD
BEGIN:DAYLIGHT
TZOFFSETFROM:+0100
TZOFFSETTO:+0200
TZNAME:CEST
DTSTART:20180325T010000
END:DAYLIGHT
BEGIN:STANDARD
TZOFFSETFROM:+0200
TZOFFSETTO:+0100
TZNAME:CET
DTSTART:20181028T010000
END:STANDARD
BEGIN:DAYLIGHT
TZOFFSETFROM:+0100
TZOFFSETTO:+0200
TZNAME:CEST
DTSTART:20190331T010000
END:DAYLIGHT
BEGIN:STANDARD
TZOFFSETFROM:+0200
TZOFFSETTO:+0100
TZNAME:CET
DTSTART:20191027T010000
END:STANDARD
END:VTIMEZONE
BEGIN:VEVENT
DTSTART;TZID=Europe/Paris:20180601T190000
DTEND;TZID=Europe/Paris:20180603T190000
DTSTAMP:20260420T032131
CREATED:20180529T055535Z
LAST-MODIFIED:20180529T094417Z
UID:2114-1527879600-1528052400@blog.sy-sy.cz
SUMMARY:27.sněm SOVAMM
DESCRIPTION:27. sněm SOVAMM se uskuteční v Hůrkách u Nových Hradů ve dnech 1.-3.6.2018. Podrobnosti najdete na stránkách / bloku SOVAMM. \nZlatým hřebem programu letošní odborné exkurze měl být dům čp. 33 v Kunějově\, který jsme měli příležitost dokumentovat na konci 80. let (viz. příspěvek na blogu SOVAMM). Strop jeho obytné místnosti\, o němž jsme přesvědčeni\, že patřil ještě polodymné jizbě\, se bohužel\, jak se ukázalo při možnosti prověřování jeho zařazení do programu exkurze\, nedochoval. Na sněmu mu můžeme věnovat jen minutu ticha. \n\nIlustrační foto: Bílá\, návesní kaple\, za ní dům usedlosti čp. 17; Z. Syrová 25.2.1989 (SOVPIS)
URL:https://blog.sy-sy.cz/index.php/event/27-snem-sovamm/
LOCATION:Penzion U kostela\, Hůrky 3\, Nová Bystřice\, 378 33\, Česká republika
CATEGORIES:SHP,vernakulární architektura
ATTACH;FMTTYPE=image/jpeg:https://blog.sy-sy.cz/wp-content/uploads/2018/05/231-28ucb.jpg
END:VEVENT
END:VCALENDAR